BEGIN:VCALENDAR
VERSION:2.0
PRODID:-//Ashtabula Arts Center - ECPv6.15.18//NONSGML v1.0//EN
CALSCALE:GREGORIAN
METHOD:PUBLISH
X-WR-CALNAME:Ashtabula Arts Center
X-ORIGINAL-URL:https://ashtabulaartscenter.org
X-WR-CALDESC:Events for Ashtabula Arts Center
REFRESH-INTERVAL;VALUE=DURATION:PT1H
X-Robots-Tag:noindex
X-PUBLISHED-TTL:PT1H
BEGIN:VTIMEZONE
TZID:America/New_York
BEGIN:DAYLIGHT
TZOFFSETFROM:-0500
TZOFFSETTO:-0400
TZNAME:EDT
DTSTART:20220313T070000
END:DAYLIGHT
BEGIN:STANDARD
TZOFFSETFROM:-0400
TZOFFSETTO:-0500
TZNAME:EST
DTSTART:20221106T060000
END:STANDARD
BEGIN:DAYLIGHT
TZOFFSETFROM:-0500
TZOFFSETTO:-0400
TZNAME:EDT
DTSTART:20230312T070000
END:DAYLIGHT
BEGIN:STANDARD
TZOFFSETFROM:-0400
TZOFFSETTO:-0500
TZNAME:EST
DTSTART:20231105T060000
END:STANDARD
BEGIN:DAYLIGHT
TZOFFSETFROM:-0500
TZOFFSETTO:-0400
TZNAME:EDT
DTSTART:20240310T070000
END:DAYLIGHT
BEGIN:STANDARD
TZOFFSETFROM:-0400
TZOFFSETTO:-0500
TZNAME:EST
DTSTART:20241103T060000
END:STANDARD
END:VTIMEZONE
BEGIN:VEVENT
DTSTART;TZID=America/New_York:20230505T193000
DTEND;TZID=America/New_York:20230505T213000
DTSTAMP:20260422T060332
CREATED:20230216T204208Z
LAST-MODIFIED:20230405T215948Z
UID:10001137-1683315000-1683322200@ashtabulaartscenter.org
SUMMARY:Enchanted: Spring Dance Concert 2023
DESCRIPTION:Advance Sale Tickets:\nAdult $15\nSenior/Student/Military $13\nChild 2-12\nFor tickets at the door\, add $2\nPay What You Can available\nTickets are non-refundable. Tickets may be exchanged for a different performance of the same show if seating is available. You must contact the box office prior to a performance to change dates.\nPURCHASE TICKETS\n \nMay 5-7 & 12-14\nFriday & Saturday at 7:30 p.m.\, Sunday at 2 p.m.\nJoin us for an eclectic performance by Ballet Theatre Ashtabula’s Senior Division dancers\, with classical\, contemporary\, and modern choreography set to music by Vivaldi\, Bach\, Mumford & Sons\, Katerina Gimon\, Lauryn Hill\, and more. This year’s concert will also include excerpts from Prokofiev’s Cinderella.
URL:https://ashtabulaartscenter.org/event/enchanted-spring-dance-concert-2023/2023-05-05/
LOCATION:13th Street Theatre\, 2928 W. 13th St.\, Ashtabula\, OH\, 44004\, United States
CATEGORIES:Dance
ATTACH;FMTTYPE=image/webp:https://ashtabulaartscenter.org/wp-content/uploads/2023/02/enchanted-logo-image-art.webp
ORGANIZER;CN="Ashtabula Arts Center":MAILTO:info@ashtabulaartscenter.org
END:VEVENT
END:VCALENDAR