BEGIN:VCALENDAR
VERSION:2.0
PRODID:-//Ashtabula Arts Center - ECPv6.15.18//NONSGML v1.0//EN
CALSCALE:GREGORIAN
METHOD:PUBLISH
X-WR-CALNAME:Ashtabula Arts Center
X-ORIGINAL-URL:https://ashtabulaartscenter.org
X-WR-CALDESC:Events for Ashtabula Arts Center
REFRESH-INTERVAL;VALUE=DURATION:PT1H
X-Robots-Tag:noindex
X-PUBLISHED-TTL:PT1H
BEGIN:VTIMEZONE
TZID:America/New_York
BEGIN:DAYLIGHT
TZOFFSETFROM:-0500
TZOFFSETTO:-0400
TZNAME:EDT
DTSTART:20230312T070000
END:DAYLIGHT
BEGIN:STANDARD
TZOFFSETFROM:-0400
TZOFFSETTO:-0500
TZNAME:EST
DTSTART:20231105T060000
END:STANDARD
BEGIN:DAYLIGHT
TZOFFSETFROM:-0500
TZOFFSETTO:-0400
TZNAME:EDT
DTSTART:20240310T070000
END:DAYLIGHT
BEGIN:STANDARD
TZOFFSETFROM:-0400
TZOFFSETTO:-0500
TZNAME:EST
DTSTART:20241103T060000
END:STANDARD
BEGIN:DAYLIGHT
TZOFFSETFROM:-0500
TZOFFSETTO:-0400
TZNAME:EDT
DTSTART:20250309T070000
END:DAYLIGHT
BEGIN:STANDARD
TZOFFSETFROM:-0400
TZOFFSETTO:-0500
TZNAME:EST
DTSTART:20251102T060000
END:STANDARD
END:VTIMEZONE
BEGIN:VEVENT
DTSTART;VALUE=DATE:20240120
DTEND;VALUE=DATE:20240121
DTSTAMP:20260421T044342
CREATED:20231219T195550Z
LAST-MODIFIED:20231219T195550Z
UID:10001439-1705708800-1705795199@ashtabulaartscenter.org
SUMMARY:50 States...and Some Provinces by Warren Dillaway
DESCRIPTION:Public Reception on Sunday\, January 21\, 1-2:30 p.m.\nGallery Hours:\nMonday-Thursday 9 a.m.-9 p.m.\nFriday 9 a.m.-4 p.m.\nSaturday 9 a.m.-1 p.m.\nAlso open before performances and during intermission.\nAdmission to receptions and the gallery is free. \nWarren has been a photographer/reporter for the Ashtabula Star Beacon since October of 1987. He had a show at the Arts Center in 1997\, and has been planning a show with a photograph from every state for many years. He fell in love with photography in junior high and has been working to capture images of life ever since.
URL:https://ashtabulaartscenter.org/event/50-states-and-some-provinces-by-warren-dillaway/2024-01-20/
LOCATION:Ashtabula Arts Center\, 2928 W. 13th St.\, Ashtabula\, OH\, 44004\, United States
ORGANIZER;CN="Ashtabula Arts Center":MAILTO:info@ashtabulaartscenter.org
END:VEVENT
END:VCALENDAR